BEGIN:VCALENDAR
VERSION:2.0
PRODID:-//ChamberMaster//Event Calendar 2.0//EN
METHOD:PUBLISH
X-PUBLISHED-TTL:P3D
REFRESH-INTERVAL:P3D
CALSCALE:GREGORIAN
BEGIN:VEVENT
DTSTART:20141117T180000Z
DTEND:20141121T180000Z
X-MICROSOFT-CDO-ALLDAYEVENT:FALSE
SUMMARY:Hopkins County Entrepreneur Week
DESCRIPTION:Week long celebration for Entrepreneurs
X-ALT-DESC;FMTTYPE=text/html:Week long celebration for Entrepreneurs
LOCATION:
UID:e.1578.463
SEQUENCE:3
DTSTAMP:20260421T212923Z
URL:https://business.hopkinschamber.com/events/details/hopkins-county-entrepreneur-week-11-17-2014-463
END:VEVENT

END:VCALENDAR
