BEGIN:VCALENDAR
VERSION:2.0
PRODID:-//ChamberMaster//Event Calendar 2.0//EN
METHOD:PUBLISH
X-PUBLISHED-TTL:P3D
REFRESH-INTERVAL:P3D
CALSCALE:GREGORIAN
BEGIN:VEVENT
DTSTART;VALUE=DATE:20211105
DTEND;VALUE=DATE:20211106
TRANSP:TRANSPARENT
X-MICROSOFT-CDO-ALLDAYEVENT:TRUE
SUMMARY:Holiday Open House
DESCRIPTION:The 2021 Holiday Open House\, powered by Independence Bank\, is the Chamber's annual event to support local member merchants. Participants will offer special discounts and give-a-ways on Friday\, November 5th\, and Saturday\, November 6th.\n\n\n\nRegister for the grand prize of a $1\,000 Chamber Check at one of our 13 VIPs. For each business\, you visit the more chances you have to win.\n\n\n\nThanks to our friends at Independence Bank\, 400 Local Love shopping bags filled with additional coupons\, gift cards\, giveaways\, and swag from Chamber member businesses.\n\nThe Local Love bag pick-up is scheduled for Thursday\, Nov. 4th at 4:30 p.m. and Friday\, Nov. 5th at 7 a.m. the Madisonville City Park. Bags will be given out on a first come first serve basis. Please call the Chamber at 270-821-3435 with questions.
X-ALT-DESC;FMTTYPE=text/html:<div class="kvgmc6g5 cxmmr5t8 oygrvhab hcukyx3x c1et5uql" style="overflow-wrap: break-word\; margin: 0px\; font-family: &quot\;Segoe UI Historic&quot\;\, &quot\;Segoe UI&quot\;\, Helvetica\, Arial\, sans-serif\; color: rgb(5\, 5\, 5)\; font-size: 15px\; background-color: rgb(255\, 255\, 255)\; animation-name: none !important\; transition-property: none !important\;">The 2021 Holiday Open House\, powered by Independence Bank\, is the Chamber&#39\;s annual event to support local member merchants. Participants will offer special discounts and give-a-ways on Friday\, November 5th\, and Saturday\, November 6th.</div>\n\n<div class="kvgmc6g5 cxmmr5t8 oygrvhab hcukyx3x c1et5uql" style="overflow-wrap: break-word\; margin: 0px\; font-family: &quot\;Segoe UI Historic&quot\;\, &quot\;Segoe UI&quot\;\, Helvetica\, Arial\, sans-serif\; color: rgb(5\, 5\, 5)\; font-size: 15px\; background-color: rgb(255\, 255\, 255)\; animation-name: none !important\; transition-property: none !important\;"><br />\nRegister for the grand prize of a $1\,000 Chamber Check at one of our 13 VIPs. For each business\, you visit the more chances you have to win.</div>\n\n<div class="kvgmc6g5 cxmmr5t8 oygrvhab hcukyx3x c1et5uql" style="overflow-wrap: break-word\; margin: 0px\; font-family: &quot\;Segoe UI Historic&quot\;\, &quot\;Segoe UI&quot\;\, Helvetica\, Arial\, sans-serif\; color: rgb(5\, 5\, 5)\; font-size: 15px\; background-color: rgb(255\, 255\, 255)\; animation-name: none !important\; transition-property: none !important\;"><br />\nThanks to our friends at Independence Bank\, 400 Local Love shopping bags filled with additional coupons\, gift cards\, giveaways\, and swag from Chamber member businesses.<br />\nThe Local Love bag pick-up is scheduled for Thursday\, Nov. 4th at 4:30 p.m. and Friday\, Nov. 5th at 7 a.m. the Madisonville City Park. Bags will be given out on a first come first serve basis. Please call the Chamber at 270-821-3435 with questions.</div>\n
LOCATION:
UID:e.1578.5026
SEQUENCE:3
DTSTAMP:20260424T060229Z
URL:https://business.hopkinschamber.com/events/details/holiday-open-house-5026
END:VEVENT

END:VCALENDAR
