BEGIN:VCALENDAR
VERSION:2.0
PRODID:-//ChamberMaster//Event Calendar 2.0//EN
METHOD:PUBLISH
X-PUBLISHED-TTL:P3D
REFRESH-INTERVAL:P3D
CALSCALE:GREGORIAN
BEGIN:VEVENT
DTSTART;VALUE=DATE:20121102
DTEND;VALUE=DATE:20121103
TRANSP:TRANSPARENT
X-MICROSOFT-CDO-ALLDAYEVENT:TRUE
SUMMARY:Holiday Open House
DESCRIPTION:Get your Christmas shopping lists ready! More than 40 Chamber-member businesses in Madisonville and Hanson will offer great specials and incentives to kick off the holiday shopping season. Enter at each participating business to win one of the Chamber's four Chamber Check prize drawings.
X-ALT-DESC;FMTTYPE=text/html:Get your Christmas shopping lists ready! More than 40 Chamber-member businesses in Madisonville and Hanson will offer great specials and incentives to kick off the holiday shopping season. Enter at each participating business to win one of the Chamber&#39\;s four Chamber Check prize drawings.
LOCATION:Chamber member businesses participating in the 2012 Holiday Open House
UID:e.1578.6
SEQUENCE:3
DTSTAMP:20260424T140443Z
URL:https://business.hopkinschamber.com/events/details/holiday-open-house-11-02-2012-6
END:VEVENT

END:VCALENDAR
