BEGIN:VCALENDAR
VERSION:2.0
PRODID:-//ChamberMaster//Event Calendar 2.0//EN
METHOD:PUBLISH
X-PUBLISHED-TTL:P3D
REFRESH-INTERVAL:P3D
CALSCALE:GREGORIAN
BEGIN:VEVENT
DTSTART:20310612T233000Z
DTEND:20310613T003000Z
X-MICROSOFT-CDO-ALLDAYEVENT:FALSE
SUMMARY:Historical Society of Hopkins County
DESCRIPTION:Historical Society of Hopkins County Monthly Meeting
X-ALT-DESC;FMTTYPE=text/html:Historical Society of Hopkins County Monthly Meeting
LOCATION:Fiscal Court Meeting Room of the Hopkins County Government Center
UID:e.1578.5159
SEQUENCE:3
DTSTAMP:20260421T192205Z
URL:https://business.hopkinschamber.com/events/details/historical-society-of-hopkins-county-06-12-2031-5159
END:VEVENT

END:VCALENDAR
