BEGIN:VCALENDAR
VERSION:2.0
PRODID:-//ChamberMaster//Event Calendar 2.0//EN
METHOD:PUBLISH
X-PUBLISHED-TTL:P3D
REFRESH-INTERVAL:P3D
CALSCALE:GREGORIAN
BEGIN:VEVENT
DTSTART:20211023T130000Z
DTEND:20211023T210000Z
X-MICROSOFT-CDO-ALLDAYEVENT:FALSE
SUMMARY:Harvest Fest
DESCRIPTION:Presented by the Hopkins Central Boys Basketball Team\, Harvest Fest will include local vendors\, food trucks\, kids activities\, a cornhole tournament\, and trunk-or-treat! The event will be held at Hopkins County Central High School.
X-ALT-DESC;FMTTYPE=text/html:<span style="font-family: Roboto\; font-size: 16px\;">Presented by the Hopkins Central Boys Basketball Team\, Harvest Fest will include local vendors\, food trucks\, kids activities\, a cornhole tournament\, and trunk-or-treat! The event will be held at Hopkins County Central High School.</span>
LOCATION:Hopkins County Central High School 6625 Hopkinsville Rd\, Madisonville\, KY 42431
UID:e.1578.5294
SEQUENCE:3
DTSTAMP:20260421T151732Z
URL:https://business.hopkinschamber.com/events/details/harvest-fest-5294
END:VEVENT

END:VCALENDAR
