BEGIN:VCALENDAR
VERSION:2.0
PRODID:-//ChamberMaster//Event Calendar 2.0//EN
METHOD:PUBLISH
X-PUBLISHED-TTL:P3D
REFRESH-INTERVAL:P3D
CALSCALE:GREGORIAN
BEGIN:VEVENT
DTSTART:20211024T180000Z
DTEND:20211024T220000Z
X-MICROSOFT-CDO-ALLDAYEVENT:FALSE
SUMMARY:Harvest Celebration
DESCRIPTION:Celebrate the harvest season with a Birthday-inspired bash! There will be door prizes\, handmade baked goods\, hemp foods\, new product reveals\, and a tour with Q & A.
X-ALT-DESC;FMTTYPE=text/html:Celebrate the harvest season with a Birthday-inspired bash! There will be door prizes\, handmade baked goods\, hemp foods\, new product reveals\, and a tour with Q &amp\; A.&nbsp\;
LOCATION:Kentucky Hemp Works 11609 Dawson Springs Road\, Crofton KY\, 42217
UID:e.1578.5284
SEQUENCE:3
DTSTAMP:20260421T150234Z
URL:https://business.hopkinschamber.com/events/details/harvest-celebration-5284
END:VEVENT

END:VCALENDAR
