BEGIN:VCALENDAR
VERSION:2.0
PRODID:-//ChamberMaster//Event Calendar 2.0//EN
METHOD:PUBLISH
X-PUBLISHED-TTL:P3D
REFRESH-INTERVAL:P3D
CALSCALE:GREGORIAN
BEGIN:VEVENT
DTSTART:20281031T230000Z
DTEND:20281101T000000Z
X-MICROSOFT-CDO-ALLDAYEVENT:FALSE
SUMMARY:Hanson City Commission
DESCRIPTION:
X-ALT-DESC;FMTTYPE=text/html:
LOCATION:
UID:e.1578.3793
SEQUENCE:3
DTSTAMP:20260421T174432Z
URL:https://business.hopkinschamber.com/events/details/hanson-city-commission-10-31-2028-3793
END:VEVENT

END:VCALENDAR
