BEGIN:VCALENDAR
VERSION:2.0
PRODID:-//ChamberMaster//Event Calendar 2.0//EN
METHOD:PUBLISH
X-PUBLISHED-TTL:P3D
REFRESH-INTERVAL:P3D
CALSCALE:GREGORIAN
BEGIN:VEVENT
DTSTART:20290131T000000Z
DTEND:20290131T010000Z
X-MICROSOFT-CDO-ALLDAYEVENT:FALSE
SUMMARY:Hanson City Commission
DESCRIPTION:
X-ALT-DESC;FMTTYPE=text/html:
LOCATION:
UID:e.1578.3796
SEQUENCE:3
DTSTAMP:20260421T212854Z
URL:https://business.hopkinschamber.com/events/details/hanson-city-commission-01-30-2029-3796
END:VEVENT

END:VCALENDAR
