BEGIN:VCALENDAR
VERSION:2.0
PRODID:-//ChamberMaster//Event Calendar 2.0//EN
METHOD:PUBLISH
X-PUBLISHED-TTL:P3D
REFRESH-INTERVAL:P3D
CALSCALE:GREGORIAN
BEGIN:VEVENT
DTSTART:20130719T160000Z
DTEND:20130719T180000Z
X-MICROSOFT-CDO-ALLDAYEVENT:FALSE
SUMMARY:Hancock Bank and Trust Co. 125th Anniversary Ribbon Cutting
DESCRIPTION:The fact that Hancock Bank and Trust has been providing banking services to our local communities since 1888 is just as much a reflection of the dedication of our amazing customers as it is a result of our own hard work and commitment.\n\n	\n\n	We wouldn't be where we are today without you\, and we would love you to help us celebrate this milestone by joining in and celebrating with us. The Chamber of Commerce will host a ribbon cutting at 11:00 a.m. at the North Main office location (2420 N. Main Street\, Madisonville) with entertainment by the Maroon Magic Dance Team. Hancock Bank will grill Hamburgers and hotdogs from 11 a.m.-1 p.m.
X-ALT-DESC;FMTTYPE=text/html:<p>\n	<span style="font-size: 12px\;"><span style="font-family: arial\, helvetica\, sans-serif\;"><big>The fact that Hancock Bank and Trust has been providing banking services to&nbsp\;our local&nbsp\;communities since 1888 is just as much a reflection of the dedication of our amazing customers as it is a result of our own hard work and commitment.<br />\n	<br />\n	We wouldn&rsquo\;t be where we are today without you\, and we would love you to help us celebrate this milestone by joining in and celebrating with us. The Chamber of Commerce will&nbsp\;host a ribbon cutting&nbsp\;at 11:00 a.m.&nbsp\;at the North Main office location (2420 N. Main Street\, Madisonville)&nbsp\;with entertainment by the Maroon Magic Dance Team. </big></span></span><span style="font-size: medium\;"><span style="font-family: calibri\;"><span style="font-size: 12px\;"><span style="font-family: arial\, helvetica\, sans-serif\;"><big>Hancock Bank will grill Hamburgers and hotdogs from 11 a.m.-1 p.m</big></span></span>.&nbsp\;</span></span><br />\n	&nbsp\;</p>\n&nbsp\;<br />\n
LOCATION:2420 North Main Madisonville KY\, 42431
UID:e.1578.54
SEQUENCE:3
DTSTAMP:20260422T215548Z
URL:https://business.hopkinschamber.com/events/details/hancock-bank-and-trust-co-125th-anniversary-ribbon-cutting-07-19-2013-54
END:VEVENT

END:VCALENDAR
