BEGIN:VCALENDAR
VERSION:2.0
PRODID:-//ChamberMaster//Event Calendar 2.0//EN
METHOD:PUBLISH
X-PUBLISHED-TTL:P3D
REFRESH-INTERVAL:P3D
CALSCALE:GREGORIAN
BEGIN:VEVENT
DTSTART:20211023T223000Z
DTEND:20211024T003000Z
X-MICROSOFT-CDO-ALLDAYEVENT:FALSE
SUMMARY:Halloween Trunk or Treat
DESCRIPTION:The entire family is welcome! Pre-registration is required. (Use code: TRUNKORTREAT2021)
X-ALT-DESC;FMTTYPE=text/html:<span style="font-family: Roboto\; font-size: 16px\;">The entire family is welcome! Pre-registration is required. (Use code: TRUNKORTREAT2021)</span>
LOCATION:Warrior Kids 1395 S. Main St. Madisonville KY 42431
UID:e.1578.5296
SEQUENCE:3
DTSTAMP:20260421T151855Z
URL:https://business.hopkinschamber.com/events/details/halloween-trunk-or-treat-5296
END:VEVENT

END:VCALENDAR
