BEGIN:VCALENDAR
VERSION:2.0
PRODID:-//ChamberMaster//Event Calendar 2.0//EN
METHOD:PUBLISH
X-PUBLISHED-TTL:P3D
REFRESH-INTERVAL:P3D
CALSCALE:GREGORIAN
BEGIN:VEVENT
DTSTART:20211029T000000Z
DTEND:20211030T043000Z
X-MICROSOFT-CDO-ALLDAYEVENT:FALSE
SUMMARY:Halloween Bash
DESCRIPTION:Join Duggers Bar & Grill for their Halloween Bash! 2 nights of fun\, music\, contests\, and drink specials! 21+ Only (You're welcome to come dressed in costume both nights\, but the costume contest will take place on Friday!)\n\nThursday- Karaoke Night and Friday- Halloween Party
X-ALT-DESC;FMTTYPE=text/html:<p style="margin-top: calc(1rem * var(--rps-global-vertical-space) * var(--rps-global-line-height))\; margin-bottom: calc(1rem * var(--rps-global-vertical-space) * var(--rps-global-line-height))\; line-height: 1.4em\; font-family: Roboto\; font-size: 16px\; background-attachment: unset !important\;">Join Duggers Bar &amp\; Grill for their Halloween Bash! 2 nights of fun\, music\, contests\, and drink specials! 21+ Only (You&rsquo\;re welcome to come dressed in costume both nights\, but the costume contest will take place on Friday!)</p>\n\n<p style="margin-top: calc(1rem * var(--rps-global-vertical-space) * var(--rps-global-line-height))\; margin-bottom: calc(1rem * var(--rps-global-vertical-space) * var(--rps-global-line-height))\; line-height: 1.4em\; font-family: Roboto\; font-size: 16px\; background-attachment: unset !important\;">Thursday- Karaoke Night and&nbsp\;Friday- Halloween Party</p>\n
LOCATION:Duggers Bar & Grill 11 W. Center St. Madisonville KY 42431
UID:e.1578.5298
SEQUENCE:3
DTSTAMP:20260421T180058Z
URL:https://business.hopkinschamber.com/events/details/halloween-bash-5298
END:VEVENT

END:VCALENDAR
