BEGIN:VCALENDAR
VERSION:2.0
PRODID:-//ChamberMaster//Event Calendar 2.0//EN
METHOD:PUBLISH
X-PUBLISHED-TTL:P3D
REFRESH-INTERVAL:P3D
CALSCALE:GREGORIAN
BEGIN:VEVENT
DTSTART:20211030T163000Z
DTEND:20211031T050000Z
X-MICROSOFT-CDO-ALLDAYEVENT:FALSE
SUMMARY:Halloween Anniversary Celebration
DESCRIPTION:Join The Crowded House for their 10th anniversary! Cameron Tabor Band will be performing! Wear a costume and receive 10% off! They will be giving a First place prize $100 Gift Card and Second Place prize $50 Gift Card. Thank you for everyone supporting us for 10 Years!
X-ALT-DESC;FMTTYPE=text/html:<span style="font-family: Roboto\; font-size: 16px\;">Join The Crowded House for their 10th anniversary! Cameron Tabor Band will be performing! Wear a costume and receive 10% off! They will be giving a First place prize $100 Gift Card and Second Place prize $50 Gift Card. Thank you for everyone supporting us for 10 Years!</span>
LOCATION:The Crowded House 26 W. Center Street\, Madisonville KY 42431
UID:e.1578.5304
SEQUENCE:3
DTSTAMP:20260421T150321Z
URL:https://business.hopkinschamber.com/events/details/halloween-anniversary-celebration-5304
END:VEVENT

END:VCALENDAR
