BEGIN:VCALENDAR
VERSION:2.0
PRODID:-//ChamberMaster//Event Calendar 2.0//EN
METHOD:PUBLISH
X-PUBLISHED-TTL:P3D
REFRESH-INTERVAL:P3D
CALSCALE:GREGORIAN
BEGIN:VEVENT
DTSTART:20130806T133000Z
DTEND:20130806T170000Z
X-MICROSOFT-CDO-ALLDAYEVENT:FALSE
SUMMARY:Glenn Shepard Seminar
DESCRIPTION:Don't miss this seminar by business expert and best selling author Glenn Shepard\, "How to Supervise People and Lead a Team." The half-day workshop is based on one of Shepard's best sellers\, "How to Manage Problem Employees."
X-ALT-DESC;FMTTYPE=text/html:Don&#39\;t miss this&nbsp\;seminar by business expert and best selling author Glenn Shepard\, &quot\;How to Supervise People and Lead a Team.&quot\; The half-day workshop is based on one of Shepard&#39\;s best sellers\, &quot\;How to Manage Problem Employees.&quot\;
LOCATION:Baptist Health Medical Associates Building B\, 8th floor conference room\, 200 Clinic Drive\, Madisonville
UID:e.1578.72
SEQUENCE:3
DTSTAMP:20260424T021052Z
URL:https://business.hopkinschamber.com/events/details/glenn-shepard-seminar-08-06-2013-72
END:VEVENT

END:VCALENDAR
