BEGIN:VCALENDAR
VERSION:2.0
PRODID:-//ChamberMaster//Event Calendar 2.0//EN
METHOD:PUBLISH
X-PUBLISHED-TTL:P3D
REFRESH-INTERVAL:P3D
CALSCALE:GREGORIAN
BEGIN:VEVENT
DTSTART;VALUE=DATE:20211126
DTEND;VALUE=DATE:20211128
TRANSP:TRANSPARENT
X-MICROSOFT-CDO-ALLDAYEVENT:TRUE
SUMMARY:Gift Wrapping!
DESCRIPTION:Bring your locally purchased Christmas gifts to the chamber staff and we will wrap them in our new exclusive Love Local Wrapping paper! Wrapping paper is as pictured in the photo.\n\n\n\n\n\n*A $100 donation to support Love Local Initiatives will be required
X-ALT-DESC;FMTTYPE=text/html:Bring your locally purchased Christmas gifts to the chamber staff and we will wrap them in our new exclusive Love Local Wrapping paper! Wrapping paper is as pictured in the photo.<br />\n<br />\n<br />\n*A $100 donation to support Love Local Initiatives will be required
LOCATION:Downtown Madisonville at Montpelier
UID:e.1578.5315
SEQUENCE:3
DTSTAMP:20260421T150136Z
URL:https://business.hopkinschamber.com/events/details/gift-wrapping-5315
END:VEVENT

END:VCALENDAR
