BEGIN:VCALENDAR
VERSION:2.0
PRODID:-//ChamberMaster//Event Calendar 2.0//EN
METHOD:PUBLISH
X-PUBLISHED-TTL:P3D
REFRESH-INTERVAL:P3D
CALSCALE:GREGORIAN
BEGIN:VEVENT
DTSTART:20211023T150000Z
DTEND:20211023T170000Z
X-MICROSOFT-CDO-ALLDAYEVENT:FALSE
SUMMARY:Genealogical Society - The History of The Shakers
DESCRIPTION:Join the Genealogical Society's monthly meeting with guest speaker Sally Rogers. She is the curator of South Union Shaker Village in Auburn\, and she will be discussing "The History of The Shakers".
X-ALT-DESC;FMTTYPE=text/html:Join the Genealogical Society&#39\;s monthly meeting with guest speaker Sally Rogers. She is the curator of South Union Shaker Village in Auburn\, and she will be discussing &quot\;The History of The Shakers&quot\;.
LOCATION:This event will take place at the government center. 56 N Main Street\, Madisonville KY\, 42431.
UID:e.1578.5255
SEQUENCE:3
DTSTAMP:20260421T152614Z
URL:https://business.hopkinschamber.com/events/details/genealogical-society-the-history-of-the-shakers-5255
END:VEVENT

END:VCALENDAR
