BEGIN:VCALENDAR
VERSION:2.0
PRODID:-//ChamberMaster//Event Calendar 2.0//EN
METHOD:PUBLISH
X-PUBLISHED-TTL:P3D
REFRESH-INTERVAL:P3D
CALSCALE:GREGORIAN
BEGIN:VEVENT
DTSTART:20211009T150000Z
DTEND:20211009T170000Z
X-MICROSOFT-CDO-ALLDAYEVENT:FALSE
SUMMARY:Genealogical Society - The History of Radio
DESCRIPTION:Join the Genealogical Society with guest speaker Charles Gibbons\, to talk about "The History of Radio".
X-ALT-DESC;FMTTYPE=text/html:Join the Genealogical Society with guest speaker Charles Gibbons\, to talk about &quot\;The History of Radio&quot\;.
LOCATION:This event will take place at the government center. 56 N Main Street\, Madisonville KY\, 42431.
UID:e.1578.5254
SEQUENCE:3
DTSTAMP:20260421T164111Z
URL:https://business.hopkinschamber.com/events/details/genealogical-society-the-history-of-radio-5254
END:VEVENT

END:VCALENDAR
