BEGIN:VCALENDAR
VERSION:2.0
PRODID:-//ChamberMaster//Event Calendar 2.0//EN
METHOD:PUBLISH
X-PUBLISHED-TTL:P3D
REFRESH-INTERVAL:P3D
CALSCALE:GREGORIAN
BEGIN:VEVENT
DTSTART:20211030T150000Z
DTEND:20211030T170000Z
X-MICROSOFT-CDO-ALLDAYEVENT:FALSE
SUMMARY:Genealogical Society - Historical Society Meeting
DESCRIPTION:This special event is co-hosted with the Historical Society of Hopkins County\, and will feature guest speaker Charlie Raymond. Charlie is the founder of the Kentucky Bigfoot Research Organization\, and will be speaking about the organization at this meeting.
X-ALT-DESC;FMTTYPE=text/html:This special event is co-hosted with the Historical Society of Hopkins County\, and will feature guest speaker Charlie Raymond. Charlie is the founder of the Kentucky Bigfoot Research Organization\, and will be speaking about the organization at this meeting.&nbsp\;
LOCATION:This event will take place at the West Kentucky Dream Center. 1140 West Noel Ave\, Madisonville KY\, 42431.
UID:e.1578.5256
SEQUENCE:3
DTSTAMP:20260421T083526Z
URL:https://business.hopkinschamber.com/events/details/genealogical-society-historical-society-meeting-5256
END:VEVENT

END:VCALENDAR
