BEGIN:VCALENDAR
VERSION:2.0
PRODID:-//ChamberMaster//Event Calendar 2.0//EN
METHOD:PUBLISH
X-PUBLISHED-TTL:P3D
REFRESH-INTERVAL:P3D
CALSCALE:GREGORIAN
BEGIN:VEVENT
DTSTART:20130427T210000Z
DTEND:20130428T010000Z
X-MICROSOFT-CDO-ALLDAYEVENT:FALSE
SUMMARY:Gallery Hop
DESCRIPTION:Enjoy several downtown art galleries\, plus live music and downtown restaurant specials.
X-ALT-DESC;FMTTYPE=text/html:Enjoy several downtown art galleries\, plus live music and downtown restaurant specials.
LOCATION:Downtown Madisonville
UID:e.1578.43
SEQUENCE:3
DTSTAMP:20260424T072002Z
URL:https://business.hopkinschamber.com/events/details/gallery-hop-04-27-2013-43
END:VEVENT

END:VCALENDAR
