BEGIN:VCALENDAR
VERSION:2.0
PRODID:-//ChamberMaster//Event Calendar 2.0//EN
METHOD:PUBLISH
X-PUBLISHED-TTL:P3D
REFRESH-INTERVAL:P3D
CALSCALE:GREGORIAN
BEGIN:VEVENT
DTSTART:20140808T220000Z
DTEND:20140809T030000Z
X-MICROSOFT-CDO-ALLDAYEVENT:FALSE
SUMMARY:Friday Night Live
DESCRIPTION:Great music\, vendors\, family activities\, and more around the courthouse square in downtown Madisonville!
X-ALT-DESC;FMTTYPE=text/html:Great music\, vendors\, family activities\, and more around the courthouse square in downtown Madisonville!
LOCATION:
UID:e.1578.446
SEQUENCE:3
DTSTAMP:20260422T013743Z
URL:https://business.hopkinschamber.com/events/details/friday-night-live-08-08-2014-446
END:VEVENT

END:VCALENDAR
