BEGIN:VCALENDAR
VERSION:2.0
PRODID:-//ChamberMaster//Event Calendar 2.0//EN
METHOD:PUBLISH
X-PUBLISHED-TTL:P3D
REFRESH-INTERVAL:P3D
CALSCALE:GREGORIAN
BEGIN:VEVENT
DTSTART:20140711T220000Z
DTEND:20140712T030000Z
X-MICROSOFT-CDO-ALLDAYEVENT:FALSE
SUMMARY:Friday Night Live
DESCRIPTION:Enjoy fun around the courthouse square! Madisonville's summer outdoor concert series continues with live performances\, vendors\, activities for kids and more.
X-ALT-DESC;FMTTYPE=text/html:Enjoy fun around the courthouse square! Madisonville&#39\;s summer outdoor concert series continues with live performances\, vendors\, activities for kids and more. &nbsp\;&nbsp\;&nbsp\;&nbsp\;&nbsp\;&nbsp\;&nbsp\;
LOCATION:Courthouse square\, downtown Madisonville
UID:e.1578.445
SEQUENCE:3
DTSTAMP:20260422T023737Z
URL:https://business.hopkinschamber.com/events/details/friday-night-live-07-11-2014-445
END:VEVENT

END:VCALENDAR
