BEGIN:VCALENDAR
VERSION:2.0
PRODID:-//ChamberMaster//Event Calendar 2.0//EN
METHOD:PUBLISH
X-PUBLISHED-TTL:P3D
REFRESH-INTERVAL:P3D
CALSCALE:GREGORIAN
BEGIN:VEVENT
DTSTART:20140613T220000Z
DTEND:20140614T030000Z
X-MICROSOFT-CDO-ALLDAYEVENT:FALSE
SUMMARY:Friday Night Live
DESCRIPTION:Come to downtown Madisonville for twilight summer fun! Live music\, vendors\, the Big Blue 5K Run\, and more. The Chamber of Commerce Beer Garden opens at 6 p.m.
X-ALT-DESC;FMTTYPE=text/html:<div style="color: gray\;">Come to downtown Madisonville for twilight summer fun! Live music\, vendors\, the Big Blue 5K Run\, and more. The Chamber of Commerce Beer Garden opens at 6 p.m.</div>\n
LOCATION:Downtown Madisonville\, around the courthouse square
UID:e.1578.444
SEQUENCE:3
DTSTAMP:20260422T034857Z
URL:https://business.hopkinschamber.com/events/details/friday-night-live-06-13-2014-444
END:VEVENT

END:VCALENDAR
