BEGIN:VCALENDAR
VERSION:2.0
PRODID:-//ChamberMaster//Event Calendar 2.0//EN
METHOD:PUBLISH
X-PUBLISHED-TTL:P3D
REFRESH-INTERVAL:P3D
CALSCALE:GREGORIAN
BEGIN:VEVENT
DTSTART:20200317T220000Z
DTEND:20200317T230000Z
X-MICROSOFT-CDO-ALLDAYEVENT:FALSE
SUMMARY:Focus Group Meeting
DESCRIPTION:This is an opportunity for you to voice your opinion on the strategic direction of your Chamber.
X-ALT-DESC;FMTTYPE=text/html:This is an opportunity for you to voice your opinion on the strategic direction of your Chamber.
LOCATION:The Hopkins County Regional Chamber of Commerce 15 E. Center Street
UID:e.1578.4113
SEQUENCE:3
DTSTAMP:20260421T225310Z
URL:https://business.hopkinschamber.com/events/details/focus-group-meeting-4113
END:VEVENT

END:VCALENDAR
