BEGIN:VCALENDAR
VERSION:2.0
PRODID:-//ChamberMaster//Event Calendar 2.0//EN
METHOD:PUBLISH
X-PUBLISHED-TTL:P3D
REFRESH-INTERVAL:P3D
CALSCALE:GREGORIAN
BEGIN:VEVENT
DTSTART:20201221T000000Z
DTEND:20201221T010000Z
X-MICROSOFT-CDO-ALLDAYEVENT:FALSE
SUMMARY:First Christian Church
DESCRIPTION:Drive Through Shadow Live Nativity Scene.  You will be greeted with masked greeters at the entrance and encouraged to tune your radio to 105.9 FM to listen to music for the occasion.
X-ALT-DESC;FMTTYPE=text/html:Drive Through Shadow Live Nativity Scene.&nbsp\; You will be greeted with masked greeters at the entrance and encouraged to tune your radio to 105.9 FM to listen to music for the occasion.&nbsp\;
LOCATION:First Christian Church 1030 College Drive
UID:e.1578.4375
SEQUENCE:3
DTSTAMP:20260424T165535Z
URL:https://business.hopkinschamber.com/events/details/first-christian-church-4375
END:VEVENT

END:VCALENDAR
