BEGIN:VCALENDAR
VERSION:2.0
PRODID:-//ChamberMaster//Event Calendar 2.0//EN
METHOD:PUBLISH
X-PUBLISHED-TTL:P3D
REFRESH-INTERVAL:P3D
CALSCALE:GREGORIAN
BEGIN:VEVENT
DTSTART:20211021T120000Z
DTEND:20211021T180000Z
X-MICROSOFT-CDO-ALLDAYEVENT:FALSE
SUMMARY:Farmer's Market - Baptist Health Deaconess Madisonville
DESCRIPTION:Hopkins County Farmers Market
X-ALT-DESC;FMTTYPE=text/html:Hopkins County Farmers Market
LOCATION:Baptist Health Madisonville
UID:e.1578.4964
SEQUENCE:3
DTSTAMP:20260421T152810Z
URL:https://business.hopkinschamber.com/events/details/farmer-s-market-baptist-health-madisonville-10-21-2021-4964
END:VEVENT

END:VCALENDAR
