BEGIN:VCALENDAR
VERSION:2.0
PRODID:-//ChamberMaster//Event Calendar 2.0//EN
METHOD:PUBLISH
X-PUBLISHED-TTL:P3D
REFRESH-INTERVAL:P3D
CALSCALE:GREGORIAN
BEGIN:VEVENT
DTSTART:20210807T223000Z
DTEND:20210808T013000Z
X-MICROSOFT-CDO-ALLDAYEVENT:FALSE
SUMMARY:Farm to Fork
DESCRIPTION:Our 5th Annual Farm to Fork Dinner in Madisonville is set for August 7th at the Ballard Convention Center! Tickets are $76 each and can be picked up at our Madisonville Main location. Proceeds from the Farm to Fork Dinner benefit the 4H and FFA clubs in Hopkins County. Special thanks to the City of Madisonville\, Tyson and Kentucky Proud for helping us put on this great community event!
X-ALT-DESC;FMTTYPE=text/html:<span style="color: rgb(51\, 51\, 51)\; font-family: Roboto\, Helvetica\, Arial\, sans-serif\; font-size: 15px\; background-color: rgb(255\, 255\, 255)\;">Our 5th Annual Farm to Fork Dinner in Madisonville is set for August 7th at the Ballard Convention Center! Tickets are $76 each and can be picked up at our Madisonville Main location. Proceeds from the Farm to Fork Dinner benefit the 4H and FFA clubs in Hopkins County. Special thanks to the City of Madisonville\, Tyson and Kentucky Proud for helping us put on this great community event!</span>
LOCATION:The Ballard Center\, Madisonville
UID:e.1578.5193
SEQUENCE:3
DTSTAMP:20260421T180056Z
URL:https://business.hopkinschamber.com/events/details/farm-to-fork-5193
END:VEVENT

END:VCALENDAR
