BEGIN:VCALENDAR
VERSION:2.0
PRODID:-//ChamberMaster//Event Calendar 2.0//EN
METHOD:PUBLISH
X-PUBLISHED-TTL:P3D
REFRESH-INTERVAL:P3D
CALSCALE:GREGORIAN
BEGIN:VEVENT
DTSTART:20211124T130000Z
DTEND:20211124T140000Z
X-MICROSOFT-CDO-ALLDAYEVENT:FALSE
SUMMARY:Farm City Breakfast
DESCRIPTION:Join us for the 47th annual Farm City Breakfast as we celebrate a rich history of agriculture in our Hopkins County community.
X-ALT-DESC;FMTTYPE=text/html:<span style="font-size:12px\;"><span style="font-family:arial\;">Join us for the 47th annual Farm City Breakfast as we celebrate a rich history of agriculture in our Hopkins County community.</span></span>
LOCATION:Mahr Park Barn B (This is an outdoor space)
UID:e.1578.5028
SEQUENCE:3
DTSTAMP:20260421T151233Z
URL:https://business.hopkinschamber.com/events/details/farm-city-breakfast-5028
END:VEVENT

END:VCALENDAR
