BEGIN:VCALENDAR
VERSION:2.0
PRODID:-//ChamberMaster//Event Calendar 2.0//EN
METHOD:PUBLISH
X-PUBLISHED-TTL:P3D
REFRESH-INTERVAL:P3D
CALSCALE:GREGORIAN
BEGIN:VEVENT
DTSTART:20191127T123000Z
DTEND:20191127T140000Z
X-MICROSOFT-CDO-ALLDAYEVENT:FALSE
SUMMARY:Farm City Breakfast
DESCRIPTION:Join us for the 45th annual Farm City Breakfast as we celebrate a rich history of agriculture in our Hopkins County community.
X-ALT-DESC;FMTTYPE=text/html:Join us for the 45th annual Farm City Breakfast as we celebrate a rich history of agriculture in our Hopkins County community.&nbsp\;
LOCATION:Greater Lighthouse Event Center 2860 N. Main St. Madisonville\, Ky 42431
UID:e.1578.2305
SEQUENCE:3
DTSTAMP:20260421T174340Z
URL:https://business.hopkinschamber.com/events/details/farm-city-breakfast-2305
END:VEVENT

END:VCALENDAR
