BEGIN:VCALENDAR
VERSION:2.0
PRODID:-//ChamberMaster//Event Calendar 2.0//EN
METHOD:PUBLISH
X-PUBLISHED-TTL:P3D
REFRESH-INTERVAL:P3D
CALSCALE:GREGORIAN
BEGIN:VEVENT
DTSTART:20121121T123000Z
DTEND:20121121T143000Z
X-MICROSOFT-CDO-ALLDAYEVENT:FALSE
SUMMARY:Farm City Breakfast
DESCRIPTION:Join us for this annual breakfast as we honor the local agriculture community and the vital role it plays in the county's economy.
X-ALT-DESC;FMTTYPE=text/html:Join us for this annual breakfast as we honor the local agriculture community and the vital role it plays in the county&#39\;s economy.
LOCATION:Greater Lighthouse Church Outreach Center 2860 North Main St. Madisonville\, KY 42431
UID:e.1578.2
SEQUENCE:3
DTSTAMP:20260424T141210Z
URL:https://business.hopkinschamber.com/events/details/farm-city-breakfast-11-21-2012-2
END:VEVENT

END:VCALENDAR
