BEGIN:VCALENDAR
VERSION:2.0
PRODID:-//ChamberMaster//Event Calendar 2.0//EN
METHOD:PUBLISH
X-PUBLISHED-TTL:P3D
REFRESH-INTERVAL:P3D
CALSCALE:GREGORIAN
BEGIN:VEVENT
DTSTART:20130905T210000Z
DTEND:20130905T230000Z
X-MICROSOFT-CDO-ALLDAYEVENT:FALSE
SUMMARY:Family Coal Rally
DESCRIPTION:The Family Coal Rally is a nonpartisan\, nonpolitical event to support coal production in the United States. Speakers include U.S. Sen. Mitch McConnell\, a representative of U.S. Sen. Rand Paul\, U.S. Congressman Ed Whitfield\, State Reps. Ben Waide and Jim Gooch\, Alliance Coal CEO Joe Craft\, and Kentucky Coal Association President Bill Bissett. Raffles\, inflatables for the kids\, carnival games\, cornhole\, race car display\, and more. Fun for the whole family!
X-ALT-DESC;FMTTYPE=text/html:The Family Coal Rally is a nonpartisan\, nonpolitical event to support coal production in the United States. Speakers include U.S. Sen. Mitch McConnell\, a representative of U.S. Sen. Rand Paul\, U.S. Congressman Ed Whitfield\, State Reps. Ben Waide and Jim Gooch\, Alliance Coal CEO Joe Craft\, and Kentucky Coal Association President Bill Bissett. Raffles\, inflatables for the kids\, carnival games\, cornhole\, race car display\, and more. Fun for the whole family!
LOCATION:Ballard Convention Center\, 609 E. Arch St.\, Madisonville
UID:e.1578.88
SEQUENCE:3
DTSTAMP:20260422T175751Z
URL:https://business.hopkinschamber.com/events/details/family-coal-rally-09-05-2013-88
END:VEVENT

END:VCALENDAR
