BEGIN:VCALENDAR
VERSION:2.0
PRODID:-//ChamberMaster//Event Calendar 2.0//EN
METHOD:PUBLISH
X-PUBLISHED-TTL:P3D
REFRESH-INTERVAL:P3D
CALSCALE:GREGORIAN
BEGIN:VEVENT
DTSTART:20130701T140000Z
DTEND:20130701T180000Z
X-MICROSOFT-CDO-ALLDAYEVENT:FALSE
SUMMARY:Event at Retired Senior Volunteer Program-PACS
DESCRIPTION:Volunteer Training for America Reads will be held to tutor children who need assistance with the development of reading skills.  All that is required to participate is the willingness to commit to one or two hours per week during the school year to read with children in Kindergarten through Third Grade.  Call the PACS-RSVP Office at 270-886-6341 or 1-800-264-0643 if you would like to attend the training.\n\n\n\n  Lunch will be provided to all volunteers.
X-ALT-DESC;FMTTYPE=text/html:Volunteer Training for America Reads will be held to tutor children who need assistance with the development of reading skills.&nbsp\; All that is required to participate is the willingness to commit to one or two hours per week during the school year to read with children in Kindergarten through Third Grade.&nbsp\; Call the PACS-RSVP Office at 270-886-6341 or 1-800-264-0643 if you would like to attend the training.<br />\n<br />\n&nbsp\; Lunch will be provided to all volunteers.<br />\n<br />\n
LOCATION:Training will be held at Martin Luther King Elementary School\, 14405 Martin Luther King Jr Way\, Hopkinsville\, KY 42240.
UID:e.1578.62
SEQUENCE:3
DTSTAMP:20260422T190518Z
URL:https://business.hopkinschamber.com/events/details/event-at-retired-senior-volunteer-program-pacs-07-01-2013-62
END:VEVENT

END:VCALENDAR
