BEGIN:VCALENDAR
VERSION:2.0
PRODID:-//ChamberMaster//Event Calendar 2.0//EN
METHOD:PUBLISH
X-PUBLISHED-TTL:P3D
REFRESH-INTERVAL:P3D
CALSCALE:GREGORIAN
BEGIN:VEVENT
DTSTART:20211117T000000Z
DTEND:20211117T020000Z
X-MICROSOFT-CDO-ALLDAYEVENT:FALSE
SUMMARY:Enduring Heroes
DESCRIPTION:ClearView Healthcare centers will be hosting events on November 16th\, 2021 across all locations to honor our "Enduring Heroes". These individuals were employed in our skilled nursing centers at the start of the pandemic in 2020 and remained throughout to serve the residents in their community.\n\nOur heroes overcame COVID fears\, community\, and family pressures\, and their own COVID infections to continue to care for those in need. There are no greater heroes than those who sacrificed so much for the most vulnerable of our population during the time of greatest need. "Enduring Heroes" exemplify American community service.  \n\nPlease join us in celebrating these amazing individuals!
X-ALT-DESC;FMTTYPE=text/html:ClearView Healthcare centers will be hosting events on November 16th\, 2021 across all locations to honor our &quot\;Enduring Heroes&quot\;. These individuals were employed in our skilled nursing centers at the start of the pandemic in 2020 and remained throughout to serve the residents in their community.<br />\nOur heroes overcame COVID fears\, community\, and family pressures\, and their own COVID infections to continue to care for those in need. There are no greater heroes than those who sacrificed so much for the most vulnerable of our population during the time of greatest need. &quot\;Enduring Heroes&quot\; exemplify American community service.&nbsp\;&nbsp\;<br />\nPlease join us in celebrating these amazing individuals!
LOCATION:Mahr Park Event Center 55 Mahr Park Road\, Madisonville KY\, 42431
UID:e.1578.5313
SEQUENCE:3
DTSTAMP:20260421T150119Z
URL:https://business.hopkinschamber.com/events/details/enduring-heroes-5313
END:VEVENT

END:VCALENDAR
