BEGIN:VCALENDAR
VERSION:2.0
PRODID:-//ChamberMaster//Event Calendar 2.0//EN
METHOD:PUBLISH
X-PUBLISHED-TTL:P3D
REFRESH-INTERVAL:P3D
CALSCALE:GREGORIAN
BEGIN:VEVENT
DTSTART:20200623T120000Z
DTEND:20200623T130000Z
X-MICROSOFT-CDO-ALLDAYEVENT:FALSE
SUMMARY:EDC Investors meeting
DESCRIPTION:
X-ALT-DESC;FMTTYPE=text/html:
LOCATION:Kentucky Innovation Station Arch Street
UID:e.1578.3841
SEQUENCE:3
DTSTAMP:20260421T183730Z
URL:https://business.hopkinschamber.com/events/details/edc-investors-meeting-3841
END:VEVENT

END:VCALENDAR
