BEGIN:VCALENDAR
VERSION:2.0
PRODID:-//ChamberMaster//Event Calendar 2.0//EN
METHOD:PUBLISH
X-PUBLISHED-TTL:P3D
REFRESH-INTERVAL:P3D
CALSCALE:GREGORIAN
BEGIN:VEVENT
DTSTART:20280509T220000Z
DTEND:20280510T000000Z
X-MICROSOFT-CDO-ALLDAYEVENT:FALSE
SUMMARY:Earlington City Council Meeting
DESCRIPTION:
X-ALT-DESC;FMTTYPE=text/html:
LOCATION:
UID:e.1578.3419
SEQUENCE:3
DTSTAMP:20260421T112052Z
URL:https://business.hopkinschamber.com/events/details/earlington-city-council-meeting-05-09-2028-3419
END:VEVENT

END:VCALENDAR
