BEGIN:VCALENDAR
VERSION:2.0
PRODID:-//ChamberMaster//Event Calendar 2.0//EN
METHOD:PUBLISH
X-PUBLISHED-TTL:P3D
REFRESH-INTERVAL:P3D
CALSCALE:GREGORIAN
BEGIN:VEVENT
DTSTART:20211021T180000Z
DTEND:20211022T223000Z
X-MICROSOFT-CDO-ALLDAYEVENT:FALSE
SUMMARY:Downtown Window Painting
DESCRIPTION:Registration forms are available on the Woman's Club of Madisonville's Facebook page. Please fill out and bring to get a window assignment and your paint.
X-ALT-DESC;FMTTYPE=text/html:Registration forms are available on the Woman&#39\;s Club of Madisonville&#39\;s Facebook page. Please fill out and bring to get a window assignment and your paint.&nbsp\;
LOCATION:Registration location is under the covered breezeway on the East side of the Old Courthouse. Painting will be in Downtown Madisonville. NOTE: Grades K-12 : Please bring a sketch of art for approval. Pre-K may paint with parent assistance\, but will not be judged.
UID:e.1578.5288
SEQUENCE:3
DTSTAMP:20260421T152431Z
URL:https://business.hopkinschamber.com/events/details/downtown-window-painting-5288
END:VEVENT

END:VCALENDAR
