BEGIN:VCALENDAR
VERSION:2.0
PRODID:-//ChamberMaster//Event Calendar 2.0//EN
METHOD:PUBLISH
X-PUBLISHED-TTL:P3D
REFRESH-INTERVAL:P3D
CALSCALE:GREGORIAN
BEGIN:VEVENT
DTSTART:20150515T150000Z
DTEND:20150515T160000Z
X-MICROSOFT-CDO-ALLDAYEVENT:FALSE
SUMMARY:Disney Customer Service Secrets
DESCRIPTION:Disney Customer Service Secrets.  Reserve early!
X-ALT-DESC;FMTTYPE=text/html:Disney Customer Service Secrets.&nbsp\; Reserve early!
LOCATION:Madisonville Community College\, Business Synergy Lab
UID:e.1578.516
SEQUENCE:3
DTSTAMP:20260425T035623Z
URL:https://business.hopkinschamber.com/events/details/disney-customer-service-secrets-05-15-2015-516
END:VEVENT

END:VCALENDAR
