BEGIN:VCALENDAR
VERSION:2.0
PRODID:-//ChamberMaster//Event Calendar 2.0//EN
METHOD:PUBLISH
X-PUBLISHED-TTL:P3D
REFRESH-INTERVAL:P3D
CALSCALE:GREGORIAN
BEGIN:VEVENT
DTSTART:20200215T003000Z
DTEND:20200215T030000Z
X-MICROSOFT-CDO-ALLDAYEVENT:FALSE
SUMMARY:Dinner Theatre - Community Theatre
DESCRIPTION:Dinner Theatre - Community Theatre
X-ALT-DESC;FMTTYPE=text/html:Dinner Theatre - Community Theatre
LOCATION:The Glema Mahr Center For The Arts
UID:e.1578.3868
SEQUENCE:3
DTSTAMP:20260421T235418Z
URL:https://business.hopkinschamber.com/events/details/dinner-theatre-community-theatre-3868
END:VEVENT

END:VCALENDAR
