BEGIN:VCALENDAR
VERSION:2.0
PRODID:-//ChamberMaster//Event Calendar 2.0//EN
METHOD:PUBLISH
X-PUBLISHED-TTL:P3D
REFRESH-INTERVAL:P3D
CALSCALE:GREGORIAN
BEGIN:VEVENT
DTSTART:20200214T003000Z
DTEND:20200214T030000Z
X-MICROSOFT-CDO-ALLDAYEVENT:FALSE
SUMMARY:Dinner Theatre - Community Theatre
DESCRIPTION:Dinner Theatre - Dinner Served
X-ALT-DESC;FMTTYPE=text/html:Dinner Theatre - Dinner Served&nbsp\;
LOCATION:The Glema Mahr Center For the Arts
UID:e.1578.3867
SEQUENCE:3
DTSTAMP:20260421T235417Z
URL:https://business.hopkinschamber.com/events/details/dinner-theatre-community-theatre-3867
END:VEVENT

END:VCALENDAR
