BEGIN:VCALENDAR
VERSION:2.0
PRODID:-//ChamberMaster//Event Calendar 2.0//EN
METHOD:PUBLISH
X-PUBLISHED-TTL:P3D
REFRESH-INTERVAL:P3D
CALSCALE:GREGORIAN
BEGIN:VEVENT
DTSTART:20210828T130000Z
DTEND:20210828T170000Z
X-MICROSOFT-CDO-ALLDAYEVENT:FALSE
SUMMARY:Dawson Springs Rotary Club Flea Market
DESCRIPTION:Come find a bargain and some unique local wares at the Dawson Springs Rotary Club Flea market!
X-ALT-DESC;FMTTYPE=text/html:Come find a bargain and some unique local wares at the Dawson Springs Rotary Club Flea market!&nbsp\;
LOCATION:This event is located just off the I-69 exit\, at 223 Eddie Beshear Drive\, in the Trailtown Agriculture Complex.
UID:e.1578.5198
SEQUENCE:3
DTSTAMP:20260421T163930Z
URL:https://business.hopkinschamber.com/events/details/dawson-springs-rotary-club-flea-market-5198
END:VEVENT

END:VCALENDAR
