BEGIN:VCALENDAR
VERSION:2.0
PRODID:-//ChamberMaster//Event Calendar 2.0//EN
METHOD:PUBLISH
X-PUBLISHED-TTL:P3D
REFRESH-INTERVAL:P3D
CALSCALE:GREGORIAN
BEGIN:VEVENT
DTSTART:20210828T130000Z
DTEND:20210828T160000Z
X-MICROSOFT-CDO-ALLDAYEVENT:FALSE
SUMMARY:Dawson Springs Cars & Coffee
DESCRIPTION:This event is open to all makes and models of cars\, trucks\, and bikes. There will be giveaways\, and also\, free coffee and donuts!
X-ALT-DESC;FMTTYPE=text/html:This event is open to all makes and models of cars\, trucks\, and bikes. There will be giveaways\, and also\, free coffee and donuts!
LOCATION:This event is located in the square\, in downtown Dawson Springs.
UID:e.1578.5197
SEQUENCE:3
DTSTAMP:20260421T163808Z
URL:https://business.hopkinschamber.com/events/details/dawson-springs-cars-coffee-5197
END:VEVENT

END:VCALENDAR
