BEGIN:VCALENDAR
VERSION:2.0
PRODID:-//ChamberMaster//Event Calendar 2.0//EN
METHOD:PUBLISH
X-PUBLISHED-TTL:P3D
REFRESH-INTERVAL:P3D
CALSCALE:GREGORIAN
BEGIN:VEVENT
DTSTART:20151106T160000Z
DTEND:20151106T170000Z
X-MICROSOFT-CDO-ALLDAYEVENT:FALSE
SUMMARY:Corporate College Workshop: Social Media
DESCRIPTION:Join us for this free monthly workshop series that features topics to help you grow your business! November topic: Social Media
X-ALT-DESC;FMTTYPE=text/html:Join us for this free monthly workshop series that features topics to help you grow your business! November topic: Social Media
LOCATION:Business Synergy Lab\, Madisonville Community College\, 2000 College Drive\, Madisonville
UID:e.1578.505
SEQUENCE:3
DTSTAMP:20260422T123714Z
URL:https://business.hopkinschamber.com/events/details/corporate-college-workshop-social-media-11-06-2015-505
END:VEVENT

END:VCALENDAR
