BEGIN:VCALENDAR
VERSION:2.0
PRODID:-//ChamberMaster//Event Calendar 2.0//EN
METHOD:PUBLISH
X-PUBLISHED-TTL:P3D
REFRESH-INTERVAL:P3D
CALSCALE:GREGORIAN
BEGIN:VEVENT
DTSTART:20150403T150000Z
DTEND:20150403T160000Z
X-MICROSOFT-CDO-ALLDAYEVENT:FALSE
SUMMARY:Corporate College Workshop: Office Lean
DESCRIPTION:Join us for this free monthly workshop series that features topics to help you grow your business! April's topic: Office Lean
X-ALT-DESC;FMTTYPE=text/html:Join us for this free monthly workshop series that features topics to help you grow your business! April&#39\;s topic: Office Lean
LOCATION:Business Synergy Lab\, Madisonville Community College\, 2000 College Drive\, Madisonville
UID:e.1578.499
SEQUENCE:3
DTSTAMP:20260422T220955Z
URL:https://business.hopkinschamber.com/events/details/corporate-college-workshop-office-lean-04-03-2015-499
END:VEVENT

END:VCALENDAR
