BEGIN:VCALENDAR
VERSION:2.0
PRODID:-//ChamberMaster//Event Calendar 2.0//EN
METHOD:PUBLISH
X-PUBLISHED-TTL:P3D
REFRESH-INTERVAL:P3D
CALSCALE:GREGORIAN
BEGIN:VEVENT
DTSTART:20150501T150000Z
DTEND:20150501T160000Z
X-MICROSOFT-CDO-ALLDAYEVENT:FALSE
SUMMARY:Corporate College Workshop: Disney Customer Service
DESCRIPTION:Join us for this free monthly workshop series that features topics to help you grow your business! May topic: Disney Customer Service
X-ALT-DESC;FMTTYPE=text/html:Join us for this free monthly workshop series that features topics to help you grow your business! May topic: Disney Customer Service
LOCATION:Business Synergy Lab\, Madisonville Community College\, 2000 College Drive\, Madisonville
UID:e.1578.500
SEQUENCE:3
DTSTAMP:20260422T205742Z
URL:https://business.hopkinschamber.com/events/details/corporate-college-workshop-disney-customer-service-05-01-2015-500
END:VEVENT

END:VCALENDAR
