BEGIN:VCALENDAR
VERSION:2.0
PRODID:-//ChamberMaster//Event Calendar 2.0//EN
METHOD:PUBLISH
X-PUBLISHED-TTL:P3D
REFRESH-INTERVAL:P3D
CALSCALE:GREGORIAN
BEGIN:VEVENT
DTSTART:20150904T150000Z
DTEND:20150904T160000Z
X-MICROSOFT-CDO-ALLDAYEVENT:FALSE
SUMMARY:Corporate College Workshop: Conflict Resolution
DESCRIPTION:Join us for this free monthly workshop series that features topics to help you grow your business! September topic: Conflict Resolution
X-ALT-DESC;FMTTYPE=text/html:Join us for this free monthly workshop series that features topics to help you grow your business! September topic: Conflict Resolution
LOCATION:Business Synergy Lab\, Madisonville Community College\, 2000 College Drive\, Madisonville
UID:e.1578.503
SEQUENCE:3
DTSTAMP:20260422T153620Z
URL:https://business.hopkinschamber.com/events/details/corporate-college-workshop-conflict-resolution-09-04-2015-503
END:VEVENT

END:VCALENDAR
