BEGIN:VCALENDAR
VERSION:2.0
PRODID:-//ChamberMaster//Event Calendar 2.0//EN
METHOD:PUBLISH
X-PUBLISHED-TTL:P3D
REFRESH-INTERVAL:P3D
CALSCALE:GREGORIAN
BEGIN:VEVENT
DTSTART:20150306T160000Z
DTEND:20150306T170000Z
X-MICROSOFT-CDO-ALLDAYEVENT:FALSE
SUMMARY:Corporate College CANCELLED DUE TO WEATHER
DESCRIPTION:The Corporate College workshop scheduled for today has been cancelled due to the weather.
X-ALT-DESC;FMTTYPE=text/html:The Corporate College workshop scheduled for today has been cancelled due to the weather.
LOCATION:
UID:e.1578.498
SEQUENCE:3
DTSTAMP:20260422T233202Z
URL:https://business.hopkinschamber.com/events/details/corporate-college-cancelled-due-to-weather-03-06-2015-498
END:VEVENT

END:VCALENDAR
