BEGIN:VCALENDAR
VERSION:2.0
PRODID:-//ChamberMaster//Event Calendar 2.0//EN
METHOD:PUBLISH
X-PUBLISHED-TTL:P3D
REFRESH-INTERVAL:P3D
CALSCALE:GREGORIAN
BEGIN:VEVENT
DTSTART:20200303T230000Z
DTEND:20200304T010000Z
X-MICROSOFT-CDO-ALLDAYEVENT:FALSE
SUMMARY:Cornerstone Prep Open House
DESCRIPTION:Open House
X-ALT-DESC;FMTTYPE=text/html:Open House
LOCATION:Cornerstone Preparatory School 145 E. Center Street
UID:e.1578.4142
SEQUENCE:3
DTSTAMP:20260421T225253Z
URL:https://business.hopkinschamber.com/events/details/cornerstone-prep-open-house-4142
END:VEVENT

END:VCALENDAR
