BEGIN:VCALENDAR
VERSION:2.0
PRODID:-//ChamberMaster//Event Calendar 2.0//EN
METHOD:PUBLISH
X-PUBLISHED-TTL:P3D
REFRESH-INTERVAL:P3D
CALSCALE:GREGORIAN
BEGIN:VEVENT
DTSTART:20211026T140000Z
DTEND:20211026T163000Z
X-MICROSOFT-CDO-ALLDAYEVENT:FALSE
SUMMARY:Community Innovation Summit
DESCRIPTION:Sustaining and Adapting Volunteer Engagement - Lessons from Covid-19\, presented by Beth Steinhorn & Linda Puckett of VQ Volunteer Strategies. Space is limited so please register by October 20th at the website above.
X-ALT-DESC;FMTTYPE=text/html:<span style="color: rgb(120\, 157\, 74)\; font-family: Raleway\, sans-serif\; font-size: 16px\; background-color: rgb(243\, 243\, 243)\;">Sustaining and Adapting Volunteer Engagement - Lessons from Covid-19\, presented by Beth Steinhorn &amp\; Linda Puckett of VQ Volunteer Strategies. Space is limited so please register by October 20th at the website above.&nbsp\;</span>
LOCATION:Virtual session 2 of 4
UID:e.1578.5291
SEQUENCE:3
DTSTAMP:20260421T150142Z
URL:https://business.hopkinschamber.com/events/details/community-innovation-summit-5291
END:VEVENT

END:VCALENDAR
