BEGIN:VCALENDAR
VERSION:2.0
PRODID:-//ChamberMaster//Event Calendar 2.0//EN
METHOD:PUBLISH
X-PUBLISHED-TTL:P3D
REFRESH-INTERVAL:P3D
CALSCALE:GREGORIAN
BEGIN:VEVENT
DTSTART:20200307T160000Z
DTEND:20200307T210000Z
X-MICROSOFT-CDO-ALLDAYEVENT:FALSE
SUMMARY:Commonwealth Broadcasting - Annual Life Event Expo
DESCRIPTION:Hosted by Commonwealth Broadcasting\n\nPlanning for Prom\, Wedding\, Birthday\, Graduation parties\, family reunions\, Easter\, births\, Mothers Day and Father Day
X-ALT-DESC;FMTTYPE=text/html:Hosted by Commonwealth Broadcasting<br />\nPlanning for Prom\, Wedding\, Birthday\, Graduation parties\, family reunions\, Easter\, births\, Mothers Day and Father Day
LOCATION:Christ The King Event Building
UID:e.1578.4136
SEQUENCE:3
DTSTAMP:20260421T225417Z
URL:https://business.hopkinschamber.com/events/details/commonwealth-broadcasting-annual-life-event-expo-4136
END:VEVENT

END:VCALENDAR
