BEGIN:VCALENDAR
VERSION:2.0
PRODID:-//ChamberMaster//Event Calendar 2.0//EN
METHOD:PUBLISH
X-PUBLISHED-TTL:P3D
REFRESH-INTERVAL:P3D
CALSCALE:GREGORIAN
BEGIN:VEVENT
DTSTART;VALUE=DATE:20130121
DTEND;VALUE=DATE:20130122
TRANSP:TRANSPARENT
X-MICROSOFT-CDO-ALLDAYEVENT:TRUE
SUMMARY:Closed for Martin Luther King Jr. Holiday
DESCRIPTION:
X-ALT-DESC;FMTTYPE=text/html:
LOCATION:
UID:e.1578.21
SEQUENCE:3
DTSTAMP:20260424T113816Z
URL:https://business.hopkinschamber.com/events/details/closed-for-martin-luther-king-jr-holiday-01-21-2013-21
END:VEVENT

END:VCALENDAR
