BEGIN:VCALENDAR
VERSION:2.0
PRODID:-//ChamberMaster//Event Calendar 2.0//EN
METHOD:PUBLISH
X-PUBLISHED-TTL:P3D
REFRESH-INTERVAL:P3D
CALSCALE:GREGORIAN
BEGIN:VEVENT
DTSTART:20130427T150000Z
DTEND:20130427T180000Z
X-MICROSOFT-CDO-ALLDAYEVENT:FALSE
SUMMARY:City of Madisonville Shred Day
DESCRIPTION:Shred up to 100 pounds of documents for free. Sponsored by the City of Madisonville.
X-ALT-DESC;FMTTYPE=text/html:<p>\n	Shred up to 100 pounds of documents for free. Sponsored by the City of Madisonville.</p>\n
LOCATION:Parkway Plaza Mall
UID:e.1578.28
SEQUENCE:3
DTSTAMP:20260423T005311Z
URL:https://business.hopkinschamber.com/events/details/city-of-madisonville-shred-day-04-27-2013-28
END:VEVENT

END:VCALENDAR
