BEGIN:VCALENDAR
VERSION:2.0
PRODID:-//ChamberMaster//Event Calendar 2.0//EN
METHOD:PUBLISH
X-PUBLISHED-TTL:P3D
REFRESH-INTERVAL:P3D
CALSCALE:GREGORIAN
BEGIN:VEVENT
DTSTART:20211115T223000Z
DTEND:20211116T000000Z
X-MICROSOFT-CDO-ALLDAYEVENT:FALSE
SUMMARY:City of Madisonville City Council Meetings
DESCRIPTION:City of Madisonville City Council Meetings\n\n1st & 3rd Mondays of each month
X-ALT-DESC;FMTTYPE=text/html:City of Madisonville City Council Meetings<br />\n1st &amp\; 3rd Mondays of each month
LOCATION:City Council Chambers
UID:e.1578.4734
SEQUENCE:3
DTSTAMP:20260421T152851Z
URL:https://business.hopkinschamber.com/events/details/city-of-madisonville-city-council-meetings-11-15-2021-4734
END:VEVENT

END:VCALENDAR
